Package: ddPCRclust Version: 1.30.0 Command: /Library/Frameworks/R.framework/Resources/bin/R CMD build --keep-empty-dirs --no-resave-data ddPCRclust StartedAt: 2025-11-17 20:25:15 -0500 (Mon, 17 Nov 2025) EndedAt: 2025-11-17 20:25:29 -0500 (Mon, 17 Nov 2025) EllapsedTime: 14.1 seconds RetCode: 0 Status: OK PackageFile: ddPCRclust_1.30.0.tar.gz PackageFileSize: 1.192 MiB