Package: ddPCRclust Version: 1.30.0 Maintainer: Benedikt G. Brink MaintainerEmail: bbrink at cebitec.uni-bielefeld.de git_url: https://git.bioconductor.org/packages/ddPCRclust git_branch: RELEASE_3_22 git_last_commit: 79d2c75 git_last_commit_date: 2025-10-29 10:43:29 -0500 (Wed, 29 Oct 2025)