Package: ddCt Version: 1.66.0 Command: /home/biocbuild/bbs-3.22-bioc/R/bin/R CMD INSTALL ddCt StartedAt: 2025-11-20 16:43:16 -0500 (Thu, 20 Nov 2025) EndedAt: 2025-11-20 16:43:22 -0500 (Thu, 20 Nov 2025) EllapsedTime: 5.5 seconds RetCode: 0 Status: OK