Package: dcanr Version: 1.26.0 Command: /home/biocbuild/bbs-3.22-bioc/R/bin/R CMD INSTALL dcanr StartedAt: 2025-11-03 15:06:42 -0500 (Mon, 03 Nov 2025) EndedAt: 2025-11-03 15:07:17 -0500 (Mon, 03 Nov 2025) EllapsedTime: 35.8 seconds RetCode: 0 Status: OK