Package: dcanr Version: 1.26.0 Command: /home/biocbuild/bbs-3.22-bioc/R/bin/R CMD build --keep-empty-dirs --no-resave-data --md5 dcanr StartedAt: 2025-10-31 17:21:21 -0400 (Fri, 31 Oct 2025) EndedAt: 2025-10-31 17:22:07 -0400 (Fri, 31 Oct 2025) EllapsedTime: 46.0 seconds RetCode: 0 Status: OK PackageFile: dcanr_1.26.0.tar.gz PackageFileSize: 1.71 MiB