Package: dcGSA Version: 1.38.0 Command: /home/biocbuild/bbs-3.22-bioc/R/bin/R CMD INSTALL dcGSA StartedAt: 2025-11-02 15:11:23 -0500 (Sun, 02 Nov 2025) EndedAt: 2025-11-02 15:11:29 -0500 (Sun, 02 Nov 2025) EllapsedTime: 5.7 seconds RetCode: 0 Status: OK