Package: dcGSA Version: 1.38.0 Command: /home/biocbuild/bbs-3.22-bioc/R/bin/R CMD build --keep-empty-dirs --no-resave-data --md5 dcGSA StartedAt: 2025-11-02 17:26:21 -0500 (Sun, 02 Nov 2025) EndedAt: 2025-11-02 17:26:22 -0500 (Sun, 02 Nov 2025) EllapsedTime: 1.0 seconds RetCode: 0 Status: OK PackageFile: dcGSA_1.38.0.tar.gz PackageFileSize: 37.89 KiB