Package: dandelionR Version: 1.1.5 Command: /home/biocbuild/bbs-3.22-bioc/R/bin/R CMD INSTALL dandelionR StartedAt: 2025-10-27 15:59:13 -0400 (Mon, 27 Oct 2025) EndedAt: 2025-10-27 15:59:52 -0400 (Mon, 27 Oct 2025) EllapsedTime: 39.1 seconds RetCode: 0 Status: OK