Package: dStruct Version: 1.16.0 Command: /Library/Frameworks/R.framework/Resources/bin/R CMD INSTALL dStruct StartedAt: 2025-11-10 15:07:37 -0500 (Mon, 10 Nov 2025) EndedAt: 2025-11-10 15:07:38 -0500 (Mon, 10 Nov 2025) EllapsedTime: 1.2 seconds RetCode: 0 Status: OK