Package: cytomapper Version: 1.21.1 Command: /home/biocbuild/bbs-3.22-bioc/R/bin/R CMD INSTALL cytomapper StartedAt: 2025-10-20 15:34:33 -0400 (Mon, 20 Oct 2025) EndedAt: 2025-10-20 15:35:28 -0400 (Mon, 20 Oct 2025) EllapsedTime: 55.2 seconds RetCode: 0 Status: OK