Package: cytomapper Version: 1.21.1 Command: /home/biocbuild/bbs-3.22-bioc/R/bin/R CMD build --keep-empty-dirs --no-resave-data --md5 cytomapper StartedAt: 2025-10-19 17:10:06 -0400 (Sun, 19 Oct 2025) EndedAt: 2025-10-19 17:11:41 -0400 (Sun, 19 Oct 2025) EllapsedTime: 95.1 seconds RetCode: 0 Status: OK PackageFile: cytomapper_1.21.1.tar.gz PackageFileSize: 20.98 MiB