Package: cytolib Version: 2.22.0 Command: /Library/Frameworks/R.framework/Resources/bin/R CMD build --keep-empty-dirs --no-resave-data cytolib StartedAt: 2025-11-10 16:06:17 -0500 (Mon, 10 Nov 2025) EndedAt: 2025-11-10 16:07:02 -0500 (Mon, 10 Nov 2025) EllapsedTime: 44.4 seconds RetCode: 0 Status: OK PackageFile: cytolib_2.22.0.tar.gz PackageFileSize: 5.786 MiB