Package: cytolib Version: 2.22.0 Command: rm -rf cytolib.buildbin-libdir && mkdir cytolib.buildbin-libdir && /Users/biocbuild/BBS/utils/build-universal.sh cytolib_2.22.0.tar.gz /Library/Frameworks/R.framework/Resources/bin/R cytolib.buildbin-libdir StartedAt: 2025-11-10 23:16:54 -0500 (Mon, 10 Nov 2025) EndedAt: 2025-11-10 23:17:37 -0500 (Mon, 10 Nov 2025) EllapsedTime: 43.8 seconds RetCode: 0 Status: OK PackageFile: cytolib_2.22.0.tgz PackageFileSize: 9.756 MiB