Package: cytoKernel Version: 1.16.0 Command: /Library/Frameworks/R.framework/Resources/bin/R CMD INSTALL cytoKernel StartedAt: 2025-11-10 15:11:19 -0500 (Mon, 10 Nov 2025) EndedAt: 2025-11-10 15:11:31 -0500 (Mon, 10 Nov 2025) EllapsedTime: 12.4 seconds RetCode: 0 Status: OK