Package: cytoKernel Version: 1.16.0 Command: rm -rf cytoKernel.buildbin-libdir && mkdir cytoKernel.buildbin-libdir && /Users/biocbuild/BBS/utils/build-universal.sh cytoKernel_1.16.0.tar.gz /Library/Frameworks/R.framework/Resources/bin/R cytoKernel.buildbin-libdir StartedAt: 2025-11-10 23:16:52 -0500 (Mon, 10 Nov 2025) EndedAt: 2025-11-10 23:17:05 -0500 (Mon, 10 Nov 2025) EllapsedTime: 13.3 seconds RetCode: 0 Status: OK PackageFile: cytoKernel_1.16.0.tgz PackageFileSize: 843.5 KiB