Package: cycle Version: 1.64.0 Command: /home/biocbuild/bbs-3.22-bioc/R/bin/R CMD INSTALL cycle StartedAt: 2025-11-06 15:13:51 -0500 (Thu, 06 Nov 2025) EndedAt: 2025-11-06 15:13:56 -0500 (Thu, 06 Nov 2025) EllapsedTime: 5.1 seconds RetCode: 0 Status: OK