Package: cycle Version: 1.64.0 Command: /home/biocbuild/bbs-3.22-bioc/R/bin/R CMD build --keep-empty-dirs --no-resave-data --md5 cycle StartedAt: 2025-11-06 17:08:02 -0500 (Thu, 06 Nov 2025) EndedAt: 2025-11-06 17:08:27 -0500 (Thu, 06 Nov 2025) EllapsedTime: 25.0 seconds RetCode: 0 Status: OK PackageFile: cycle_1.64.0.tar.gz PackageFileSize: 248.6 KiB