Package: customProDB Version: 1.50.0 Command: /Library/Frameworks/R.framework/Resources/bin/R CMD build --keep-empty-dirs --no-resave-data customProDB StartedAt: 2025-11-03 16:39:40 -0500 (Mon, 03 Nov 2025) EndedAt: 2025-11-03 16:41:07 -0500 (Mon, 03 Nov 2025) EllapsedTime: 87.0 seconds RetCode: 0 Status: OK PackageFile: customProDB_1.50.0.tar.gz PackageFileSize: 539.9 KiB