Package: customProDB Version: 1.50.0 Command: /Library/Frameworks/R.framework/Resources/bin/R CMD INSTALL customProDB StartedAt: 2025-11-02 15:20:52 -0500 (Sun, 02 Nov 2025) EndedAt: 2025-11-02 15:21:10 -0500 (Sun, 02 Nov 2025) EllapsedTime: 18.1 seconds RetCode: 0 Status: OK