Package: customProDB Version: 1.50.0 Command: /Library/Frameworks/R.framework/Resources/bin/R CMD build --keep-empty-dirs --no-resave-data customProDB StartedAt: 2025-11-02 16:05:40 -0500 (Sun, 02 Nov 2025) EndedAt: 2025-11-02 16:06:09 -0500 (Sun, 02 Nov 2025) EllapsedTime: 29.3 seconds RetCode: 0 Status: OK PackageFile: customProDB_1.50.0.tar.gz PackageFileSize: 540.3 KiB