Package: customProDB Version: 1.50.0 Command: rm -rf customProDB.buildbin-libdir && mkdir customProDB.buildbin-libdir && /Users/biocbuild/BBS/utils/build-universal.sh customProDB_1.50.0.tar.gz /Library/Frameworks/R.framework/Resources/bin/R customProDB.buildbin-libdir StartedAt: 2025-11-02 23:01:34 -0500 (Sun, 02 Nov 2025) EndedAt: 2025-11-02 23:01:53 -0500 (Sun, 02 Nov 2025) EllapsedTime: 19.4 seconds RetCode: 0 Status: OK PackageFile: customProDB_1.50.0.tgz PackageFileSize: 719.7 KiB