Package: customCMPdb Version: 1.20.0 Command: /Library/Frameworks/R.framework/Resources/bin/R CMD INSTALL customCMPdb StartedAt: 2025-11-10 15:09:06 -0500 (Mon, 10 Nov 2025) EndedAt: 2025-11-10 15:09:13 -0500 (Mon, 10 Nov 2025) EllapsedTime: 7.2 seconds RetCode: 0 Status: OK