Package: csdR Version: 1.16.0 Command: /home/biocbuild/R/R/bin/R CMD INSTALL csdR StartedAt: 2025-11-13 21:56:45 -0000 (Thu, 13 Nov 2025) EndedAt: 2025-11-13 21:57:28 -0000 (Thu, 13 Nov 2025) EllapsedTime: 43.1 seconds RetCode: 0 Status: OK