Package: csdR Version: 1.15.0 Command: /home/biocbuild/bbs-3.22-bioc/R/bin/R CMD build --keep-empty-dirs --no-resave-data --md5 csdR StartedAt: 2025-10-24 17:14:59 -0400 (Fri, 24 Oct 2025) EndedAt: 2025-10-24 17:15:48 -0400 (Fri, 24 Oct 2025) EllapsedTime: 49.0 seconds RetCode: 0 Status: OK PackageFile: csdR_1.15.0.tar.gz PackageFileSize: 1.439 MiB