Package: csdR Version: 1.16.0 Maintainer: Jakob Peder Pettersen MaintainerEmail: jakobpeder.pettersen at gmail.com git_url: https://git.bioconductor.org/packages/csdR git_branch: RELEASE_3_22 git_last_commit: 089bd25 git_last_commit_date: 2025-10-29 11:10:35 -0500 (Wed, 29 Oct 2025)