Package: csaw Version: 1.44.0 Command: /Library/Frameworks/R.framework/Resources/bin/R CMD INSTALL csaw StartedAt: 2025-11-10 15:11:08 -0500 (Mon, 10 Nov 2025) EndedAt: 2025-11-10 15:11:34 -0500 (Mon, 10 Nov 2025) EllapsedTime: 25.1 seconds RetCode: 0 Status: OK