Package: csaw Version: 1.44.0 Command: /Library/Frameworks/R.framework/Resources/bin/R CMD build --keep-empty-dirs --no-resave-data csaw StartedAt: 2025-11-10 16:04:24 -0500 (Mon, 10 Nov 2025) EndedAt: 2025-11-10 16:04:55 -0500 (Mon, 10 Nov 2025) EllapsedTime: 31.3 seconds RetCode: 0 Status: OK PackageFile: csaw_1.44.0.tar.gz PackageFileSize: 389.1 KiB