Package: crumblr Version: 1.2.0 Command: /home/biocbuild/bbs-3.22-bioc/R/bin/R CMD build --keep-empty-dirs --no-resave-data --md5 crumblr StartedAt: 2025-11-17 20:24:47 -0500 (Mon, 17 Nov 2025) EndedAt: 2025-11-17 20:26:36 -0500 (Mon, 17 Nov 2025) EllapsedTime: 109.1 seconds RetCode: 0 Status: OK PackageFile: crumblr_1.2.0.tar.gz PackageFileSize: 1.828 MiB