Package: crlmm Version: 1.68.0 Command: /home/biocbuild/bbs-3.22-bioc/R/bin/R CMD INSTALL crlmm StartedAt: 2025-11-17 17:35:37 -0500 (Mon, 17 Nov 2025) EndedAt: 2025-11-17 17:36:27 -0500 (Mon, 17 Nov 2025) EllapsedTime: 50.0 seconds RetCode: 0 Status: OK