Package: crlmm Version: 1.68.0 Command: /home/biocbuild/bbs-3.22-bioc/R/bin/R CMD build --keep-empty-dirs --no-resave-data --md5 crlmm StartedAt: 2025-11-17 20:24:35 -0500 (Mon, 17 Nov 2025) EndedAt: 2025-11-17 20:27:16 -0500 (Mon, 17 Nov 2025) EllapsedTime: 161.1 seconds RetCode: 0 Status: OK PackageFile: crlmm_1.68.0.tar.gz PackageFileSize: 4.28 MiB