Package: crisprScore Version: 1.14.0 Command: /home/biocbuild/bbs-3.22-bioc/R/bin/R CMD INSTALL crisprScore StartedAt: 2025-11-06 15:29:49 -0500 (Thu, 06 Nov 2025) EndedAt: 2025-11-06 15:30:04 -0500 (Thu, 06 Nov 2025) EllapsedTime: 14.6 seconds RetCode: 0 Status: OK