Package: crisprScore Version: 1.14.0 Command: /home/biocbuild/bbs-3.22-bioc/R/bin/R CMD build --keep-empty-dirs --no-resave-data --md5 crisprScore StartedAt: 2025-11-06 17:04:19 -0500 (Thu, 06 Nov 2025) EndedAt: 2025-11-06 17:04:44 -0500 (Thu, 06 Nov 2025) EllapsedTime: 25.0 seconds RetCode: 0 Status: OK PackageFile: crisprScore_1.14.0.tar.gz PackageFileSize: 4.514 MiB