Package: crisprBase Version: 1.13.2 Command: /home/biocbuild/bbs-3.22-bioc/R/bin/R CMD INSTALL crisprBase StartedAt: 2025-10-27 15:17:39 -0400 (Mon, 27 Oct 2025) EndedAt: 2025-10-27 15:17:55 -0400 (Mon, 27 Oct 2025) EllapsedTime: 15.4 seconds RetCode: 0 Status: OK