Package: crisprBase Version: 1.13.2 Command: /home/biocbuild/bbs-3.22-bioc/R/bin/R CMD build --keep-empty-dirs --no-resave-data --md5 crisprBase StartedAt: 2025-10-27 17:04:26 -0400 (Mon, 27 Oct 2025) EndedAt: 2025-10-27 17:04:50 -0400 (Mon, 27 Oct 2025) EllapsedTime: 24.0 seconds RetCode: 0 Status: OK PackageFile: crisprBase_1.13.2.tar.gz PackageFileSize: 1.754 MiB