Package: covRNA Version: 1.36.0 Command: /home/biocbuild/bbs-3.22-bioc/R/bin/R CMD INSTALL covRNA StartedAt: 2025-11-16 15:30:21 -0500 (Sun, 16 Nov 2025) EndedAt: 2025-11-16 15:30:39 -0500 (Sun, 16 Nov 2025) EllapsedTime: 18.5 seconds RetCode: 0 Status: OK