Package: covEB Version: 1.36.0 Command: /home/biocbuild/bbs-3.22-bioc/R/bin/R CMD INSTALL covEB StartedAt: 2025-11-20 16:03:01 -0500 (Thu, 20 Nov 2025) EndedAt: 2025-11-20 16:03:08 -0500 (Thu, 20 Nov 2025) EllapsedTime: 7.5 seconds RetCode: 0 Status: OK