Package: countsimQC Version: 1.27.1 Command: /home/biocbuild/bbs-3.22-bioc/R/bin/R CMD INSTALL countsimQC StartedAt: 2025-10-24 15:39:09 -0400 (Fri, 24 Oct 2025) EndedAt: 2025-10-24 15:39:39 -0400 (Fri, 24 Oct 2025) EllapsedTime: 31.0 seconds RetCode: 0 Status: OK