Package: cosmosR Version: 1.17.0 Command: /home/biocbuild/bbs-3.22-bioc/R/bin/R CMD INSTALL cosmosR StartedAt: 2025-10-28 15:29:00 -0400 (Tue, 28 Oct 2025) EndedAt: 2025-10-28 15:29:08 -0400 (Tue, 28 Oct 2025) EllapsedTime: 8.1 seconds RetCode: 0 Status: OK