Package: coseq Version: 1.34.0 Command: /home/biocbuild/bbs-3.22-bioc/R/bin/R CMD INSTALL coseq StartedAt: 2025-11-03 15:22:40 -0500 (Mon, 03 Nov 2025) EndedAt: 2025-11-03 15:23:13 -0500 (Mon, 03 Nov 2025) EllapsedTime: 33.3 seconds RetCode: 0 Status: OK