Package: coseq Version: 1.34.0 Command: /home/biocbuild/bbs-3.22-bioc/R/bin/R CMD build --keep-empty-dirs --no-resave-data --md5 coseq StartedAt: 2025-11-03 17:03:12 -0500 (Mon, 03 Nov 2025) EndedAt: 2025-11-03 17:07:19 -0500 (Mon, 03 Nov 2025) EllapsedTime: 247.2 seconds RetCode: 0 Status: OK PackageFile: coseq_1.34.0.tar.gz PackageFileSize: 1.849 MiB