Package: consensusSeekeR Version: 1.38.0 Command: /home/biocbuild/bbs-3.22-bioc/R/bin/R CMD INSTALL consensusSeekeR StartedAt: 2025-11-16 15:28:40 -0500 (Sun, 16 Nov 2025) EndedAt: 2025-11-16 15:29:14 -0500 (Sun, 16 Nov 2025) EllapsedTime: 34.2 seconds RetCode: 0 Status: OK