Package: consensus Version: 1.28.0 Command: /home/biocbuild/bbs-3.22-bioc/R/bin/R CMD INSTALL consensus StartedAt: 2025-11-13 15:10:49 -0500 (Thu, 13 Nov 2025) EndedAt: 2025-11-13 15:10:55 -0500 (Thu, 13 Nov 2025) EllapsedTime: 5.3 seconds RetCode: 0 Status: OK