Package: consensus Version: 1.28.0 Command: /home/biocbuild/bbs-3.22-bioc/R/bin/R CMD build --keep-empty-dirs --no-resave-data --md5 consensus StartedAt: 2025-11-13 17:01:04 -0500 (Thu, 13 Nov 2025) EndedAt: 2025-11-13 17:01:11 -0500 (Thu, 13 Nov 2025) EllapsedTime: 7.0 seconds RetCode: 0 Status: OK PackageFile: consensus_1.28.0.tar.gz PackageFileSize: 972.2 KiB