Package: condiments Version: 1.17.0 Command: /home/biocbuild/bbs-3.22-bioc/R/bin/R CMD INSTALL condiments StartedAt: 2025-10-24 16:08:03 -0400 (Fri, 24 Oct 2025) EndedAt: 2025-10-24 16:08:38 -0400 (Fri, 24 Oct 2025) EllapsedTime: 34.7 seconds RetCode: 0 Status: OK