Package: concordexR Version: 1.10.0 Command: /home/biocbuild/bbs-3.22-bioc/R/bin/R CMD build --keep-empty-dirs --no-resave-data --md5 concordexR StartedAt: 2025-11-16 17:04:56 -0500 (Sun, 16 Nov 2025) EndedAt: 2025-11-16 17:06:20 -0500 (Sun, 16 Nov 2025) EllapsedTime: 84.1 seconds RetCode: 0 Status: OK PackageFile: concordexR_1.10.0.tar.gz PackageFileSize: 1.573 MiB