Package: compcodeR Version: 1.45.0 Command: /home/biocbuild/bbs-3.22-bioc/R/bin/R CMD INSTALL compcodeR StartedAt: 2025-10-24 15:18:41 -0400 (Fri, 24 Oct 2025) EndedAt: 2025-10-24 15:19:12 -0400 (Fri, 24 Oct 2025) EllapsedTime: 31.3 seconds RetCode: 0 Status: OK