Package: compSPOT Version: 1.8.0 Command: /home/biocbuild/R/R/bin/R CMD build --keep-empty-dirs --no-resave-data compSPOT StartedAt: 2025-11-14 00:49:50 -0000 (Fri, 14 Nov 2025) EndedAt: 2025-11-14 00:50:25 -0000 (Fri, 14 Nov 2025) EllapsedTime: 35.0 seconds RetCode: 0 Status: OK PackageFile: compSPOT_1.8.0.tar.gz PackageFileSize: 462.5 KiB