Package: compSPOT Version: 1.8.0 Command: /Library/Frameworks/R.framework/Resources/bin/R CMD INSTALL compSPOT StartedAt: 2025-11-17 17:05:54 -0500 (Mon, 17 Nov 2025) EndedAt: 2025-11-17 17:06:11 -0500 (Mon, 17 Nov 2025) EllapsedTime: 17.1 seconds RetCode: 0 Status: OK