Package: compSPOT Version: 1.8.0 Command: /Library/Frameworks/R.framework/Resources/bin/R CMD build --keep-empty-dirs --no-resave-data compSPOT StartedAt: 2025-11-17 21:23:18 -0500 (Mon, 17 Nov 2025) EndedAt: 2025-11-17 21:24:23 -0500 (Mon, 17 Nov 2025) EllapsedTime: 65.3 seconds RetCode: 0 Status: OK PackageFile: compSPOT_1.8.0.tar.gz PackageFileSize: 436.5 KiB