Package: compSPOT Version: 1.8.0 Command: rm -rf compSPOT.buildbin-libdir && mkdir compSPOT.buildbin-libdir && /Users/biocbuild/BBS/utils/build-universal.sh compSPOT_1.8.0.tar.gz /Library/Frameworks/R.framework/Resources/bin/R compSPOT.buildbin-libdir StartedAt: 2025-11-18 17:25:09 -0500 (Tue, 18 Nov 2025) EndedAt: 2025-11-18 17:25:24 -0500 (Tue, 18 Nov 2025) EllapsedTime: 15.1 seconds RetCode: 0 Status: OK PackageFile: compSPOT_1.8.0.tgz PackageFileSize: 466.4 KiB